BEGIN:VCALENDAR
VERSION:2.0
PRODID:-//Tauchsportfreunde Nemo e.V. - ECPv6.15.1//NONSGML v1.0//EN
CALSCALE:GREGORIAN
METHOD:PUBLISH
X-WR-CALNAME:Tauchsportfreunde Nemo e.V.
X-ORIGINAL-URL:https://www.tsf-nemo.de
X-WR-CALDESC:Veranstaltungen für Tauchsportfreunde Nemo e.V.
REFRESH-INTERVAL;VALUE=DURATION:PT1H
X-Robots-Tag:noindex
X-PUBLISHED-TTL:PT1H
BEGIN:VTIMEZONE
TZID:Europe/Berlin
BEGIN:DAYLIGHT
TZOFFSETFROM:+0100
TZOFFSETTO:+0200
TZNAME:CEST
DTSTART:20240331T010000
END:DAYLIGHT
BEGIN:STANDARD
TZOFFSETFROM:+0200
TZOFFSETTO:+0100
TZNAME:CET
DTSTART:20241027T010000
END:STANDARD
BEGIN:DAYLIGHT
TZOFFSETFROM:+0100
TZOFFSETTO:+0200
TZNAME:CEST
DTSTART:20250330T010000
END:DAYLIGHT
BEGIN:STANDARD
TZOFFSETFROM:+0200
TZOFFSETTO:+0100
TZNAME:CET
DTSTART:20251026T010000
END:STANDARD
END:VTIMEZONE
BEGIN:VEVENT
DTSTART;TZID=Europe/Berlin:20251106T073000
DTEND;TZID=Europe/Berlin:20251111T103000
DTSTAMP:20260421T145430
CREATED:20250202T205630Z
LAST-MODIFIED:20250202T210850Z
UID:2839-1762414200-1762857000@www.tsf-nemo.de
SUMMARY:Tauchen im Attersee
DESCRIPTION:
URL:https://www.tsf-nemo.de/event/tauchen-im-attersee/
LOCATION:Attersee\, Dorfstr. 42\, Nussdorf am Attersee\, 4864\, Austria
CATEGORIES:Tauchen
ATTACH;FMTTYPE=image/jpeg:https://www.tsf-nemo.de/wp-content/uploads/2023/11/P20231102_100118.jpg
END:VEVENT
BEGIN:VEVENT
DTSTART;TZID=Europe/Berlin:20250627T110000
DTEND;TZID=Europe/Berlin:20250629T110000
DTSTAMP:20260421T145430
CREATED:20250202T211007Z
LAST-MODIFIED:20250202T211007Z
UID:2846-1751022000-1751194800@www.tsf-nemo.de
SUMMARY:Sommerfest in Hemmoor
DESCRIPTION:
URL:https://www.tsf-nemo.de/event/sommerfest-in-hemmoor/
LOCATION:Kreidesee Hemmoor\, Cuxhavener Str. 1\, Hemmoor\, 21745\, Deutschland
CATEGORIES:Tauchen
ATTACH;FMTTYPE=image/jpeg:https://www.tsf-nemo.de/wp-content/uploads/IMG-20200614-WA0006.jpg
END:VEVENT
BEGIN:VEVENT
DTSTART;TZID=Europe/Berlin:20250214T080000
DTEND;TZID=Europe/Berlin:20250221T170000
DTSTAMP:20260421T145430
CREATED:20250202T211833Z
LAST-MODIFIED:20250202T211905Z
UID:2850-1739520000-1740157200@www.tsf-nemo.de
SUMMARY:Tauchen im Roten Meer
DESCRIPTION:
URL:https://www.tsf-nemo.de/event/tauchen-im-roten-meer/
CATEGORIES:Events,Tauchen
ATTACH;FMTTYPE=image/jpeg:https://www.tsf-nemo.de/wp-content/uploads/2023/05/IMG-20180904-WA0000-e1738531061975.jpg
END:VEVENT
BEGIN:VEVENT
DTSTART;TZID=Europe/Berlin:20250130T193000
DTEND;TZID=Europe/Berlin:20250130T213000
DTSTAMP:20260421T145430
CREATED:20250202T210232Z
LAST-MODIFIED:20250202T210232Z
UID:2844-1738265400-1738272600@www.tsf-nemo.de
SUMMARY:Jahreshauptversammlung
DESCRIPTION:
URL:https://www.tsf-nemo.de/event/jahreshauptversammlung/
LOCATION:Ratsschänke Bornemann\, Bahnhofstraße 1\, Altenberge\, NRW\, 48341\, Deutschland
CATEGORIES:Jahreshauptversammlung
END:VEVENT
BEGIN:VEVENT
DTSTART;TZID=Europe/Berlin:20241208T110000
DTEND;TZID=Europe/Berlin:20241208T130000
DTSTAMP:20260421T145430
CREATED:20241027T203620Z
LAST-MODIFIED:20241027T203620Z
UID:2815-1733655600-1733662800@www.tsf-nemo.de
SUMMARY:Adventsfrühstück in Lingen
DESCRIPTION:
URL:https://www.tsf-nemo.de/event/adventsfruehstueck-in-lingen/
CATEGORIES:Events
END:VEVENT
BEGIN:VEVENT
DTSTART;TZID=Europe/Berlin:20241208T090000
DTEND;TZID=Europe/Berlin:20241208T110000
DTSTAMP:20260421T145430
CREATED:20231127T175704Z
LAST-MODIFIED:20241027T204645Z
UID:2804-1733648400-1733655600@www.tsf-nemo.de
SUMMARY:Tauchen in Lingen
DESCRIPTION:
URL:https://www.tsf-nemo.de/event/stammtisch-8/
LOCATION:Speicherbecken Geeste\, Biener Str. 15\, Geeste\, 49744\, Deutschland
CATEGORIES:Tauchen
ORGANIZER;CN="Tauchsportfreunde Nemo e.V.":MAILTO:vorstand@tsf-nemo.de
END:VEVENT
BEGIN:VEVENT
DTSTART;TZID=Europe/Berlin:20241130T190000
DTEND;TZID=Europe/Berlin:20241130T220000
DTSTAMP:20260421T145430
CREATED:20241027T205040Z
LAST-MODIFIED:20241027T205040Z
UID:2821-1732993200-1733004000@www.tsf-nemo.de
SUMMARY:Nikolausmarkt Altenberge
DESCRIPTION:
URL:https://www.tsf-nemo.de/event/nikolausmarkt-altenberge/
LOCATION:Nikolausmarkt Altenberge\, Marktplatz\, Altenberge\, 48341\, Deutschland
CATEGORIES:Events
ORGANIZER;CN="Tauchsportfreunde Nemo e.V.":MAILTO:vorstand@tsf-nemo.de
END:VEVENT
END:VCALENDAR